BEGIN:VCALENDAR
VERSION:2.0
PRODID:icalendar-ruby
CALSCALE:GREGORIAN
METHOD:PUBLISH
BEGIN:VEVENT
DTSTAMP:20260422T175923Z
UID:18-714451@hgremnant.com
DTSTART:20260924T223000Z
DTEND:20260925T003000Z
CLASS:PUBLIC
CREATED:20260422T130109
DESCRIPTION:
LAST-MODIFIED:20260422T130109
LOCATION:100 Old Turnpike Road\, Nottingham\, NH
SUMMARY:Guardians Men's Group
URL;VALUE=URI:https://www.hgremnant.com/events/guardians-mens-group/2026-09
 -24
ATTACH;FILENAME=Lion - 1280x720 Black Background.png;FMTTYPE=image/png:http
 s://dq5pwpg1q8ru0.cloudfront.net/2024/08/27/14/29/57/b4582f9d-18ba-4f2e-91
 b0-abddd8ed23a1/Lion%20-%201280x720%20Black%20Background.png
END:VEVENT
END:VCALENDAR
