BEGIN:VCALENDAR
VERSION:2.0
PRODID:icalendar-ruby
CALSCALE:GREGORIAN
METHOD:PUBLISH
BEGIN:VEVENT
DTSTAMP:20260422T160728Z
UID:5-713827@hgremnant.com
DTSTART:20261101T150000Z
DTEND:20261101T163000Z
CLASS:PUBLIC
CREATED:20260422T100546
DESCRIPTION:Please join us for Sunday service.
LAST-MODIFIED:20260422T100546
LOCATION:100 Old Turnpike Road\, Nottingham\, NH
SUMMARY:Sunday Service
URL;VALUE=URI:https://www.hgremnant.com/events/sunday-service/2026-11-01
ATTACH;FILENAME=IMG_3751.jpg;FMTTYPE=image/jpeg:https://dq5pwpg1q8ru0.cloud
 front.net/2021/04/25/09/01/45/b86305a4-87bf-4627-b658-60a11d74690b/IMG_375
 1.jpg
END:VEVENT
END:VCALENDAR
